BEGIN:VCALENDAR
VERSION:2.0
PRODID:KKTIX
CALSCALE:GREGORIAN
METHOD:PUBLISH
BEGIN:VTIMEZONE
TZID:Asia/Taipei
END:VTIMEZONE
BEGIN:VEVENT
DTSTAMP:20260422T182534Z
UID:1e04beac-66d5-4f0a-b0d1-b85d6ac883f4
DTSTART:20260520T120000Z
DTEND:20260520T120000Z
CLASS:PUBLIC
DESCRIPTION:https://spaceport.kktix.cc/events/xlov-2
LOCATION: (台北市信義區信義路五段1號) TICC台北國際會議中
 心
SUMMARY:【福利加價購】2026 XLOV 亞洲巡迴台北站
END:VEVENT
END:VCALENDAR
