BEGIN:VCALENDAR
VERSION:2.0
PRODID:KKTIX
CALSCALE:GREGORIAN
METHOD:PUBLISH
BEGIN:VTIMEZONE
TZID:Asia/Taipei
END:VTIMEZONE
BEGIN:VEVENT
DTSTAMP:20260422T181704Z
UID:79603514-2805-4e19-b726-6547f5deb476
DTSTART:20260520T120000Z
DTEND:20260520T120000Z
CLASS:PUBLIC
DESCRIPTION:https://spaceport.kktix.cc/events/xlov-1
LOCATION: (台北市信義區信義路五段1號) TICC台北國際會議中
 心
SUMMARY:【演唱會】2026 XLOV 亞洲巡迴台北站
END:VEVENT
END:VCALENDAR
